BEGIN:VCALENDAR
PRODID:-//hacksw/handcal//NONSGML v1.0//EN
VERSION:2.0
METHOD:PUBLISH
BEGIN:VEVENT
DTSTART:20221019T213000Z
DTEND:20221019T233000Z
LOCATION:TolHouse, 1447 N Summit St., Toledo, OH 43604
UID:2242620221019T213000ZTEPC Annual Meeting @ TolHouse
DTSTAMP:20260420T090419Z
DESCRIPTION:\n[Register Here!](http://events.r20.constantcontact.com/register/event?oeidk=a07eje3mfx05149772c&llr=vbyuwkpab)\n
SUMMARY:TEPC Annual Meeting @ TolHouse - Toledo Estate &amp; Financial Planning Council 
PRIORITY:3
BEGIN:VALARM
TRIGGER:PT18H
ACTION:DISPLAY
DESCRIPTION:Reminder
END:VALARM
END:VEVENT
END:VCALENDAR